BEGIN:VCALENDAR
VERSION:2.0
PRODID:ConsultVox
NAME:Rencontre de proximité à Montoir-de-Bretagne\, le 8 janvier
X-WR-CALNAME:Rencontre de proximité à Montoir-de-Bretagne\, le 8 janvier
BEGIN:VTIMEZONE
TZID:UTC
BEGIN:STANDARD
DTSTART:20240413T150000Z
TZOFFSETFROM:+0000
TZOFFSETTO:+0000
END:STANDARD
END:VTIMEZONE
BEGIN:VEVENT
UID:NkWVHw2LkEK
DTSTAMP:20260421T093506Z
SUMMARY:Rencontre de proximité à Montoir-de-Bretagne\, le 8 janvier
DESCRIPTION:Venez rencontrer l'équipe projet !\nCes moments d’échange e
 t de rencontre sont organisés afin que chacun puisse s’informer\, poser
  ses questions et donner son avis sur les enjeux du projet.
LOCATION:Super U et Drive\, Avenue François Miterrand\, Montoir-de-Bretagn
 e\, France
DTSTART:20250108T150000Z
DTEND:20250108T170000Z
GEO:47.3260882;-2.1522969
END:VEVENT
END:VCALENDAR