BEGIN:VCALENDAR
VERSION:2.0
PRODID:ConsultVox
NAME:Rencontre avec les associations environnementales
X-WR-CALNAME:Rencontre avec les associations environnementales
BEGIN:VTIMEZONE
TZID:UTC
BEGIN:STANDARD
DTSTART:20240427T133000Z
TZOFFSETFROM:+0000
TZOFFSETTO:+0000
END:STANDARD
END:VTIMEZONE
BEGIN:VEVENT
UID:W6o3CNA3r6Z
DTSTAMP:20260419T122839Z
SUMMARY:Rencontre avec les associations environnementales
DESCRIPTION:Une rencontre est dédiée aux associations environnementales d
 u territoire pour approfondir les échanges autour des enjeux environnemen
 taux du projet.
LOCATION:Saint-Nazaire\, France
DTSTART:20250122T133000Z
DTEND:20250122T160000Z
GEO:47.2740959;-2.2130288
END:VEVENT
END:VCALENDAR