BEGIN:VCALENDAR
VERSION:2.0
PRODID:ConsultVox
NAME:Table ronde - La transformation économique et écologique du territoi
 re
X-WR-CALNAME:Table ronde - La transformation économique et écologique du 
 territoire
BEGIN:VTIMEZONE
TZID:UTC
BEGIN:STANDARD
DTSTART:20240510T173000Z
TZOFFSETFROM:+0000
TZOFFSETTO:+0000
END:STANDARD
END:VTIMEZONE
BEGIN:VEVENT
UID:L9WoulJq2G3
DTSTAMP:20260419T123020Z
SUMMARY:Table ronde - La transformation économique et écologique du terri
 toire
DESCRIPTION:INSCRIPTION RECOMMANDEE - Venez approfondir le sujet de la tran
 sformation économique et écologique du territoire lors de cette table ro
 nde\, le 4 février 2025 à Donges !
LOCATION:Salle polyvalente de la mairie de Donges\, Avenue de la Paix\, Don
 ges\, France
DTSTART:20250204T173000Z
DTEND:20250204T193000Z
GEO:47.3181652;-2.0745153
END:VEVENT
END:VCALENDAR